BEGIN:VCALENDAR
VERSION:2.0
PRODID:-//Halifield Schools - ECPv6.15.20//NONSGML v1.0//EN
CALSCALE:GREGORIAN
METHOD:PUBLISH
X-ORIGINAL-URL:https://www.halifieldschools.com.ng
X-WR-CALDESC:Events for Halifield Schools
REFRESH-INTERVAL;VALUE=DURATION:PT1H
X-Robots-Tag:noindex
X-PUBLISHED-TTL:PT1H
BEGIN:VTIMEZONE
TZID:UTC
BEGIN:STANDARD
TZOFFSETFROM:+0000
TZOFFSETTO:+0000
TZNAME:UTC
DTSTART:20240101T000000
END:STANDARD
END:VTIMEZONE
BEGIN:VEVENT
DTSTART;TZID=UTC:20250405T083000
DTEND;TZID=UTC:20250405T170000
DTSTAMP:20260421T033746
CREATED:20250324T120136Z
LAST-MODIFIED:20250324T120136Z
UID:7758-1743841800-1743872400@www.halifieldschools.com.ng
SUMMARY:COLLEGE ENTRANCE EXAMINATION (CBT)
DESCRIPTION:COLLEGE ENTRANCE EXAMINATION
URL:https://www.halifieldschools.com.ng/event/college-entrance-examination-cbt/
LOCATION:Halifield Schools\, Maryland\, 2-6 Oki Lane\, Mende\, Maryland\, Lagos\, Nigeria
CATEGORIES:Entrance Exam
ATTACH;FMTTYPE=image/jpeg:https://www.halifieldschools.com.ng/wp-content/uploads/2025/03/COLLEGE-ENTRANCE-EXAMINATION.jpg
ORGANIZER;CN="Halifield Schools Maryland":MAILTO:admissions@halifieldschools.com.ng
END:VEVENT
END:VCALENDAR