BEGIN:VCALENDAR
VERSION:2.0
PRODID:-//Halifield Schools - ECPv6.15.20//NONSGML v1.0//EN
CALSCALE:GREGORIAN
METHOD:PUBLISH
X-WR-CALNAME:Halifield Schools
X-ORIGINAL-URL:https://www.halifieldschools.com.ng
X-WR-CALDESC:Events for Halifield Schools
REFRESH-INTERVAL;VALUE=DURATION:PT1H
X-Robots-Tag:noindex
X-PUBLISHED-TTL:PT1H
BEGIN:VTIMEZONE
TZID:UTC
BEGIN:STANDARD
TZOFFSETFROM:+0000
TZOFFSETTO:+0000
TZNAME:UTC
DTSTART:20230101T000000
END:STANDARD
END:VTIMEZONE
BEGIN:VEVENT
DTSTART;TZID=UTC:20240203T083000
DTEND;TZID=UTC:20240203T120000
DTSTAMP:20260423T120130
CREATED:20240109T114447Z
LAST-MODIFIED:20240109T114447Z
UID:6336-1706949000-1706961600@www.halifieldschools.com.ng
SUMMARY:Halifield College Entrance Exam
DESCRIPTION:
URL:https://www.halifieldschools.com.ng/event/halifield-college-entrance-exam/
LOCATION:Halifield Schools\, Maryland\, 2-6 Oki Lane\, Mende\, Maryland\, Lagos\, Nigeria
CATEGORIES:Entrance Exam
END:VEVENT
END:VCALENDAR